BEGIN:VCALENDAR
VERSION:2.0
PRODID:-//My Beach - ECPv6.15.2//NONSGML v1.0//EN
CALSCALE:GREGORIAN
METHOD:PUBLISH
X-ORIGINAL-URL:https://www.mybeach.com.au
X-WR-CALDESC:Events for My Beach
REFRESH-INTERVAL;VALUE=DURATION:PT1H
X-Robots-Tag:noindex
X-PUBLISHED-TTL:PT1H
BEGIN:VTIMEZONE
TZID:Asia/Shanghai
BEGIN:STANDARD
TZOFFSETFROM:+0800
TZOFFSETTO:+0800
TZNAME:CST
DTSTART:20230101T000000
END:STANDARD
END:VTIMEZONE
BEGIN:VEVENT
DTSTART;VALUE=DATE:20231203
DTEND;VALUE=DATE:20231204
DTSTAMP:20260423T225838
CREATED:20220920T072101Z
LAST-MODIFIED:20231206T060540Z
UID:18238-1701561600-1701647999@www.mybeach.com.au
SUMMARY:SunSmart Little Nippers Carnival 1
DESCRIPTION:Our SunSmart Little Nippers Carnivals provide a fun and encouraging introduction to surf sports competition for our U8 and U9 age groups. The events will include swim\, board\, sprints and flags. \nThis event is proudly supported by Healthway promoting the SunSmart message. \nAge Categories\nU8 & U9 \nEvent Enquiries\nTo Cottesloe SLSC – Karlene Craven \nRelated Documents\n\nEvent Results\n2023/24 Little Nipper & Nipper Competition Guide\nEvent Flyer\nProgram
URL:https://www.mybeach.com.au/event/sunsmart-little-nippers-carnival-1/
LOCATION:Cottesloe Beach\, Cottesloe Beach\, Perth\, Western Australia\, 6011\, Australia
CATEGORIES:Surf Sports
ATTACH;FMTTYPE=image/png:https://www.mybeach.com.au/app/uploads/2022/09/2210_littlenippers_carnival.png
END:VEVENT
BEGIN:VEVENT
DTSTART;TZID=Asia/Shanghai:20231208T170000
DTEND;TZID=Asia/Shanghai:20231208T183000
DTSTAMP:20260423T225838
CREATED:20231102T014322Z
LAST-MODIFIED:20231121T071834Z
UID:22769-1702054800-1702060200@www.mybeach.com.au
SUMMARY:R&R Sundowner Series R2
DESCRIPTION:The R&R Sundowner Series is for athletes ages U11 – U15\, with a focus on training for 2 and 5-person R&R teams. Judges will offer review and encouragement for teams and coaches. This is the second event of the series and will be held at Fremantle on Leighton Beach. After the event Fremantle SLSC invite competitors and supporters to join them on the lawn for a sausage sizzle (provided by the club). \n\nThe Third event will be back at Scarborough Amphitheatre same timings as the first two events. \n\nEntries\n\nEnter on the night between 5-5:30pm\nEntry is free\n\nTeams\n\n2 Person: U11\, U13 & U15\n5 Person: U15\n2 Person teams will not be segregated by ages in the competition so mixed ages may compete side by side. Each team will receive its own judged score and feedback from judges. Coaches are welcome to discuss their team’s scores and progress with judges.\n\nSchedule\n\nThe first 2 Person event will march in at 5:30pm and others will follow\nThe 5 person event will follow the 2 Person.\n\nEvent Enquiries\nScarboro SLSC – Doug McGhie
URL:https://www.mybeach.com.au/event/rr-sundowner-series-r2/
LOCATION:Fremantle Surf Life Saving Club\, Vlamingh Parklands\, 20 Leighton Beach Blvd\, North Fremantle\, WA\, 6159\, Australia
CATEGORIES:Surf Sports
ATTACH;FMTTYPE=image/jpeg:https://s3.ap-southeast-2.amazonaws.com/assets.surflifesavingwa.com.au/app/uploads/2023/11/03085531/2311_EventCal_RRSundowner.jpg
END:VEVENT
BEGIN:VEVENT
DTSTART;TZID=Asia/Shanghai:20231208T170000
DTEND;TZID=Asia/Shanghai:20231208T193000
DTSTAMP:20260423T225838
CREATED:20231207T080805Z
LAST-MODIFIED:20231207T081345Z
UID:23264-1702054800-1702063800@www.mybeach.com.au
SUMMARY:1 & 2km Run Series: R1
DESCRIPTION:The Summer Run Series aims to encourage clubbies of all ages to train and simulate competing in 1 & 2km run events in readiness for the SunSmart WA Surf Life Saving Championships and The Aussies\, to be held in WA in 2024. \nDates & Times\n\nRace 1: Friday\, 8 December – Registrations from 5pm / Races start 6pm sharp\nRace 2: Saturday\, 13 January 2024 – Registrations from 6:30am / Races start 7:30am sharp\nRace 3: Friday\, 9 February 2024 – Registrations from 5pm / Races start 6pm sharp\n\nEntries\n\nRegister on the day\n$5 per event per runner – breakfast (am)\n\nFormat\n1km: U6 to U12 and U60+ \n2km: U13 to U59 \nRules\n\nThe run events will be conducted to the current SLSA Surf Sport Manual\nRunners must be current members of a Surf Life Saving Club\nClub competition cap preferred (represent your club with pride)\n\nEvent Enquiries\nJack Dowie / M: 0413 333 650
URL:https://www.mybeach.com.au/event/1-2km-run-series-r1/
LOCATION:Swanbourne Nedlands SLSC\, 282 Marine Pde\, Swanbourne\, WA\, 6010\, Australia
ATTACH;FMTTYPE=image/png:https://s3.ap-southeast-2.amazonaws.com/assets.surflifesavingwa.com.au/app/uploads/2023/12/07151322/RunSeries_EventCal_1024x576_2510.png
END:VEVENT
BEGIN:VEVENT
DTSTART;TZID=Asia/Shanghai:20231208T170000
DTEND;TZID=Asia/Shanghai:20231210T120000
DTSTAMP:20260423T225838
CREATED:20231102T022733Z
LAST-MODIFIED:20231123T074028Z
UID:22777-1702054800-1702209600@www.mybeach.com.au
SUMMARY:R&R Weekender
DESCRIPTION:Held across three days\, the R&R Weekender will combine coaching and competition opportunities for coaches\, officials and athletes in the sport of R&R. \nWith special guest R&R Experts:\nGordon McKirdy from NSW (referee Youth R&R at Scarborough Aussies 2023\, Coach Wanda R&R).\nChristine Cardwell from VIC (National Coach of the Year 2022\, R&R wizard). \nProgram\nFriday / 5pm Leighton Beach \n\nSecond Sundowner Series session find out more here\n\nSaturday / 9am – 12pm Scarboro Training Room  \n\nMorning activities will focus on the coaches and officials\, with demonstrations covering all aspects of 2 and 5-person events (Nippers & Youth).\n\nSaturday / 3:30pm – 5:30/6pm Hillarys Boat Harbour Swim Beach \n\nTraining R&R Carnival for U15\, 17\, 19 and Open – Targetting Competitors\, coaches and Officials. Potentially Sprint Belt Races\n\nSunday / 9am – 10am Scarboro SLSC \n\nClub access to expert Coaches/Officials\n\nEntries\n\nEnter on the day\nEntry is free\n\nEvent Enquiries\nScarboro SLSC – Doug McGhie \n 
URL:https://www.mybeach.com.au/event/rr-weekender-2/
LOCATION:Scarboro Surf Life Saving Club\, 163 The Esplanade\, Scarborough\, Western Australia\, 6019\, Australia
CATEGORIES:Surf Sports
ATTACH;FMTTYPE=image/png:https://www.mybeach.com.au/app/uploads/2022/09/2210_rrweekender1.png
END:VEVENT
BEGIN:VEVENT
DTSTART;VALUE=DATE:20231210
DTEND;VALUE=DATE:20231211
DTSTAMP:20260423T225838
CREATED:20220919T043108Z
LAST-MODIFIED:20231207T011808Z
UID:18178-1702166400-1702252799@www.mybeach.com.au
SUMMARY:Navy/ASRL WA Surf Boat Series - R3
DESCRIPTION:Entries\nEntries have closed. \nSweeps/ rowers must select ALL events they intend on racing e.g. If an U19 female intends on also racing in the open female\, they should select both those events. Only one fee is charged. \nTeams\nClubs are to compile teams through SurfTec from entries made by their members. \nDraw\nWill be made available via email\, the ASRL App and social media. \nRelated Documents\nWill be added as they become available. \n\nThis event is a Western Suns State Team selection event.\n\nEvent Enquiries\nTo Secret Harbour SLSC – Brendan Privelege
URL:https://www.mybeach.com.au/event/surf-boat-series-r3/
LOCATION:Secret Harbour\, Secret Harbour Beach\, Secret Harbour\, Western Australia\, 6173\, Australia
CATEGORIES:Surf Sports
ATTACH;FMTTYPE=image/jpeg:https://s3.ap-southeast-2.amazonaws.com/assets.surflifesavingwa.com.au/app/uploads/2022/09/22114803/2308_EventCal_SurfBoat.jpg
END:VEVENT
BEGIN:VEVENT
DTSTART;VALUE=DATE:20231210
DTEND;VALUE=DATE:20231211
DTSTAMP:20260423T225838
CREATED:20230724T032447Z
LAST-MODIFIED:20231207T011833Z
UID:21598-1702166400-1702252799@www.mybeach.com.au
SUMMARY:SunSmart Nippers Carnival 1
DESCRIPTION:Our SunSmart Nipper carnivals are an opportunity for Nippers to showcase their competitive skills against members from all clubs/regions. These events are targeted at U10-U13 age groups and include beach relays\, flags\, board and surf events. \nThis event is proudly supported by Healthway promoting the SunSmart message. \nEntries\nEntries have closed. \nAge categories\nU10\, U11\, U12 & U13 \nEvent Enquiries\nTo Sorrento SLSC – Jess Hampton \nRelated Documents\nProgram
URL:https://www.mybeach.com.au/event/sunsmart-nippers-carnival-1/
LOCATION:Sorrento Beach\, Sorrento Beach\, Perth\, Western Australia\, 6020\, Australia
CATEGORIES:Surf Sports
ATTACH;FMTTYPE=image/png:https://www.mybeach.com.au/app/uploads/2022/09/2210_Nippers_carnival1.png
END:VEVENT
END:VCALENDAR