BEGIN:VCALENDAR
VERSION:2.0
PRODID:-//My Beach - ECPv6.15.2//NONSGML v1.0//EN
CALSCALE:GREGORIAN
METHOD:PUBLISH
X-WR-CALNAME:My Beach
X-ORIGINAL-URL:https://www.mybeach.com.au
X-WR-CALDESC:Events for My Beach
REFRESH-INTERVAL;VALUE=DURATION:PT1H
X-Robots-Tag:noindex
X-PUBLISHED-TTL:PT1H
BEGIN:VTIMEZONE
TZID:Asia/Shanghai
BEGIN:STANDARD
TZOFFSETFROM:+0800
TZOFFSETTO:+0800
TZNAME:CST
DTSTART:20220101T000000
END:STANDARD
END:VTIMEZONE
BEGIN:VEVENT
DTSTART;TZID=Asia/Shanghai:20221126T090000
DTEND;TZID=Asia/Shanghai:20221126T100000
DTSTAMP:20260420T140115
CREATED:20221025T072720Z
LAST-MODIFIED:20230208T064135Z
UID:18948-1669453200-1669456800@www.mybeach.com.au
SUMMARY:Youth Official Course
DESCRIPTION:Every surf sports competition needs a dedicated and welltrained team of officials. SLSWA youth members can join the Youth Official Program and start working in a range of officiating roles including timekeeping\, marshal\, check starter etc. \nHours accrued in this role can go towards the SLSWA Youth Leaders Program. \nDownload this brochure for more information. \nUpcoming Youth Official Courses:\n\nSaturday 19 November: 11am – 1pm at SLSWA Balcatta\nSaturday 26 November: 9am – 10am at Bremer Bay\nMonday 16 January: 11am – 1pm at SLSWA Balcatta\nFriday 27 January: 11am – 1pm at Bunbury\n\nBOOK HERE
URL:https://www.mybeach.com.au/event/youth-official-course-2/
LOCATION:Bremer Bay\, Bremer Bay\, Bremer Bay\, Western Australia\, 6338\, Australia
CATEGORIES:Youth Development
ATTACH;FMTTYPE=image/png:https://www.mybeach.com.au/app/uploads/2022/10/2210_YouthOfficial.png
END:VEVENT
BEGIN:VEVENT
DTSTART;TZID=Asia/Shanghai:20221126T063000
DTEND;TZID=Asia/Shanghai:20221126T100000
DTSTAMP:20260420T140115
CREATED:20221020T035215Z
LAST-MODIFIED:20221028T044440Z
UID:18855-1669444200-1669456800@www.mybeach.com.au
SUMMARY:Freo 1 & 2km Run Series - Race 1
DESCRIPTION:Hosted by Fremantle Surf Life Saving Club\, the Freo Run Series aims to encourage clubbies of all ages to train and simulate competing in 1 & 2km run events in readiness for the SunSmart WA Surf Life Saving Championships and The Aussies\, to be held in WA in 2023. \nDates & Times\n\nRace 1: Saturday\, November 26th\, 2022 – Registrations from 6.30am / Races start 7.30am sharp\nRace 2: Saturday\, December 17th\, 2022 – Registrations from 4.00pm / Races start 5.00pm sharp\nRace 3: Thursday\, January 26th\, 2023 – Registrations from 6.30am / Races start 7.30am sharp\n\nEntries\n\nRegister on the day\n$5 per event per runner – breakfast (am) / nibbles (pm) are included\n\nFormat\nPre-race warm-up (all together) \n1km: U6 to U13 and U60+ \n2km: U14 to U59 \nRules\n\nThe run events will be conducted to the current SLSA Surf Sport Manual\nRunners must be current members of a Surf Life Saving Club\nClub competition cap preferred (represent your club with pride)\n\nEvent Enquiries\nTo Fremantle SLSC – Jack Dowie / M: 0413 333 650 \nRelated Documents
URL:https://www.mybeach.com.au/event/freo-run-series-race-1/
LOCATION:Leighton Beach\, Leighton Beach\, Fremantle\, Western Australia\, 6160\, Australia
CATEGORIES:Surf Sports
ATTACH;FMTTYPE=image/png:https://www.mybeach.com.au/app/uploads/2022/10/2210_FreoRunSeries_2.png
END:VEVENT
BEGIN:VEVENT
DTSTART;VALUE=DATE:20221126
DTEND;VALUE=DATE:20221128
DTSTAMP:20260420T140115
CREATED:20220920T082051Z
LAST-MODIFIED:20221026T085134Z
UID:18291-1669420800-1669593599@www.mybeach.com.au
SUMMARY:Rainbow Coast Carnival
DESCRIPTION:An annual event\, the Rainbow Coast Surf Life Saving Carnival run at Bremer Bay\, is open to Nippers through to Open and includes sprints\, flags\, swim\, board\, ski and Iron events. \nEntries\nEntries are not yet open. \nTeams\nTBC \nEvent Enquiries\nTo Surf Life Saving WA – Surf Sports \nRelated Documents\n\nWill be added as they become available
URL:https://www.mybeach.com.au/event/rainbow-coast-carnival/
LOCATION:Bremer Bay\, Bremer Bay\, Bremer Bay\, Western Australia\, 6338\, Australia
CATEGORIES:Surf Sports
ATTACH;FMTTYPE=image/png:https://www.mybeach.com.au/app/uploads/2022/09/2210_RainbowCoast_carnival.png
END:VEVENT
BEGIN:VEVENT
DTSTART;TZID=Asia/Shanghai:20221120T080000
DTEND;TZID=Asia/Shanghai:20221120T140000
DTSTAMP:20260420T140115
CREATED:20221115T030055Z
LAST-MODIFIED:20221115T030340Z
UID:19305-1668931200-1668952800@www.mybeach.com.au
SUMMARY:City of Perth - Summer of Surf Carnival
DESCRIPTION:Entries\nClose Wednesday 16 November. Enter here \nAge categories\n\nU14\, U15\, U17\nYouth\nOpen\n\nSchedule\n\nFirst events to start at 8am\n\nEntry Cost\n\n$25 for first event\, $5 for each additional event and capped at $35.\n\nRelated Documents\n\nEvent Program\n\nEvent Enquiries\nTo City of Perth SLSC – Jason Wright \n 
URL:https://www.mybeach.com.au/event/city-of-perth-summer-of-surf-carnival/
LOCATION:City Beach\, City Beach\, City Beach\, Western Australia\, 6015\, Australia
ATTACH;FMTTYPE=image/png:https://www.mybeach.com.au/app/uploads/2022/11/2211_EventCal_summerofsurf.png
END:VEVENT
BEGIN:VEVENT
DTSTART;TZID=Asia/Shanghai:20221119T133000
DTEND;TZID=Asia/Shanghai:20221119T153000
DTSTAMP:20260420T140115
CREATED:20221109T084020Z
LAST-MODIFIED:20230208T065723Z
UID:19237-1668864600-1668871800@www.mybeach.com.au
SUMMARY:Youth Age Manager Course
DESCRIPTION:The Youth Age Manager program is an introduction to the pathway of Age Manager\, and you will gain the skills and knowledge required to deliver Woodside Nipper activities and events. \nHours accrued in this role can go towards the SLSWA Youth Leaders Program. \nDownload this brochure for more information. \nUpcoming Youth Age Manager courses:\n\nSaturday 19 November: 1.30pm – 3.30pm at SLSWA Balcatta\nMonday 16 January: 1.30pm – 3.30pm at SLSWA Balcatta\nFriday 27 January: 1.30pm – 3.30pm at Bunbury\n\nBOOK HERE
URL:https://www.mybeach.com.au/event/youth-age-manager-course-3/
LOCATION:SLSWA Balcatta\, 7 Delawney Street\, Perth\, Western Australia\, 6021\, Australia
CATEGORIES:Youth Development
ATTACH;FMTTYPE=image/png:https://www.mybeach.com.au/app/uploads/2022/10/2210_YouthAgeManager.png
END:VEVENT
BEGIN:VEVENT
DTSTART;TZID=Asia/Shanghai:20221119T133000
DTEND;TZID=Asia/Shanghai:20221119T153000
DTSTAMP:20260420T140115
CREATED:20221025T075939Z
LAST-MODIFIED:20230208T071922Z
UID:18975-1668864600-1668871800@www.mybeach.com.au
SUMMARY:Youth Coach Course
DESCRIPTION:Youth Coaches work in a range of coaching roles at clubs. You will have the opportunity to work with athletes across all levels of competition and performance as well as being mentored at club training sessions in all areas of surf sports. \nHours accrued in this role can go towards the SLSWA Youth Leaders Program. \nDownload this brochure for more information. \nUpcoming Youth Coach courses:\n\nSaturday 19 November: 1.30pm – 3.30pm at SLSWA Balcatta\nSaturday 26 November: 10am – 11am at Bremer Bay\nMonday 16 January: 1.30pm – 3.30pm at SLSWA Balcatta\nFriday 27 January: 1.30pm – 3.30pm at Bunbury\n\nBOOK HERE
URL:https://www.mybeach.com.au/event/youth-coach-course-5/
LOCATION:SLSWA Balcatta\, 7 Delawney Street\, Perth\, Western Australia\, 6021\, Australia
CATEGORIES:Youth Development
ATTACH;FMTTYPE=image/png:https://www.mybeach.com.au/app/uploads/2022/10/2210_YouthCoach.png
END:VEVENT
BEGIN:VEVENT
DTSTART;TZID=Asia/Shanghai:20221119T110000
DTEND;TZID=Asia/Shanghai:20221119T130000
DTSTAMP:20260420T140115
CREATED:20221025T072556Z
LAST-MODIFIED:20230208T064109Z
UID:18941-1668855600-1668862800@www.mybeach.com.au
SUMMARY:Youth Official Course
DESCRIPTION:Every surf sports competition needs a dedicated and welltrained team of officials. SLSWA youth members can join the Youth Official Program and start working in a range of officiating roles including timekeeping\, marshal\, check starter etc. \nHours accrued in this role can go towards the SLSWA Youth Leaders Program. \nDownload this brochure for more information. \nUpcoming Youth Official Courses:\n\nSaturday 19 November: 11am – 1pm at SLSWA Balcatta\nSaturday 26 November: 9am – 10am at Bremer Bay\nMonday 16 January: 11am – 1pm at SLSWA Balcatta\nFriday 27 January: 11am – 1pm at Bunbury\n\nBOOK HERE
URL:https://www.mybeach.com.au/event/youth-official-course/
LOCATION:SLSWA Balcatta\, 7 Delawney Street\, Perth\, Western Australia\, 6021\, Australia
CATEGORIES:Youth Development
ATTACH;FMTTYPE=image/png:https://www.mybeach.com.au/app/uploads/2022/10/2210_YouthOfficial.png
END:VEVENT
BEGIN:VEVENT
DTSTART;TZID=Asia/Shanghai:20221119T090000
DTEND;TZID=Asia/Shanghai:20221119T110000
DTSTAMP:20260420T140115
CREATED:20221110T022056Z
LAST-MODIFIED:20230208T072055Z
UID:19246-1668848400-1668855600@www.mybeach.com.au
SUMMARY:Youth Trainer Course
DESCRIPTION:The Youth Trainer provides an introduction to the pathway of Education Training. You will develop\nthe skills and knowledge to deliver components of SLSWA education courses and awards\, such as First Aid and the Surf Rescue Certificate. \nHours accrued in this role can go towards the SLSWA Youth Leaders Program. \nDownload this brochure for more information. \nUpcoming Youth Trainer Courses:\n\nSaturday 19 November: 9am – 11am at SLSWA Balcatta\nMonday 16 January: 9am – 11am at SLSWA Balcatta\nFriday 27 January: 9am – 11am at Bunbury\n\nBOOK HERE
URL:https://www.mybeach.com.au/event/youth-trainer-course-3/
LOCATION:SLSWA Balcatta\, 7 Delawney Street\, Perth\, Western Australia\, 6021\, Australia
CATEGORIES:Youth Development
ATTACH;FMTTYPE=image/png:https://www.mybeach.com.au/app/uploads/2022/10/2210_YouthTrainer.png
END:VEVENT
BEGIN:VEVENT
DTSTART;TZID=Asia/Shanghai:20221118T170000
DTEND;TZID=Asia/Shanghai:20221118T190000
DTSTAMP:20260420T140115
CREATED:20220905T021917Z
LAST-MODIFIED:20221103T072442Z
UID:17969-1668790800-1668798000@www.mybeach.com.au
SUMMARY:R&R Sunset Series - R1
DESCRIPTION:The R&R Sunset Series is for athletes ages U11 – U15\, with a focus on training for 2 and 5-person R&R teams. Judges will offer review and encouragement for teams and coaches. The first two events ( 18 November & 2 December) will be held in the Scarborough Beach Amphitheatre\, with great lights and seating for parents and friends\, and will be followed by a social get-together. \nThe third event will be held at Fremantle on Friday 3 February 2023 on Leighton beach\, with the same times. \nEntries\nEnter on the night between 5-5:30pm in the amphitheater. \nTeams\n\n2 Person: U11\, U13 & U15\n5 Person: U15\n2 Person teams will not be segregated by ages in the competition so mixed ages may compete side by side. Each team will receive its own judged score and feedback from judges. Coaches are welcome to discuss their team’s scores and progress with judges.\n\nSchedule\n\nThe first 2 Person event will march in at 5:30pm and others will follow\nThe 5 person event will follow the 2 Person.\n\nEvent Enquiries\nTo Scarboro SLSC – Doug McGhie \nRelated Documents\n\nWill be added as they become available
URL:https://www.mybeach.com.au/event/sunset-series-r1/
LOCATION:Scarborough Beach\, Scarborough Beach\, Perth\, Western Australia\, 6019
CATEGORIES:Surf Sports
ATTACH;FMTTYPE=image/png:https://www.mybeach.com.au/app/uploads/2022/09/2210_sunsetseries.png
END:VEVENT
BEGIN:VEVENT
DTSTART;VALUE=DATE:20221023
DTEND;VALUE=DATE:20221024
DTSTAMP:20260420T140115
CREATED:20220905T084822Z
LAST-MODIFIED:20221020T022348Z
UID:18020-1666483200-1666569599@www.mybeach.com.au
SUMMARY:WA Iron Series - R1 / Heart180 Enduro
DESCRIPTION:Age Categories\nYouth/Open: U14/15\, U17\, U19\, Open \nEntries\n\nClose Thursday 20 October. Enter here\nNo entries on the day\n\nFormat\nEndurance – 1-hour length \nProgram\n\n\n\n6:45am – 7:30am\nRegistrations\n\n\n7:45am\nBriefing and Welcome\n\n\n8am\nRace 1: U14/15 & U17 – 1 lap\n\n\n8:45am\nRace 2: U19 & Open – 2 laps\n\n\n\nPresentations to occur as soon as place getters cross the finish line\n\n\n\n  \nRelated Documents\n\nThis event is a Western Suns State Team selection event. See Circular 26 for further details\nCourse map\n\nEvent Enquiries\nTo City of Perth Surf Life Saving Club – Andrew Young \nEvent Flyer
URL:https://www.mybeach.com.au/event/wa-iron-series-r1/
LOCATION:City Beach\, City Beach\, City Beach\, Western Australia\, 6015\, Australia
CATEGORIES:Surf Sports
ATTACH;FMTTYPE=image/png:https://www.mybeach.com.au/app/uploads/2022/09/2210_IronseriesR1.png
END:VEVENT
END:VCALENDAR