BEGIN:VCALENDAR
VERSION:2.0
PRODID:-//My Beach - ECPv6.15.2//NONSGML v1.0//EN
CALSCALE:GREGORIAN
METHOD:PUBLISH
X-ORIGINAL-URL:https://www.mybeach.com.au
X-WR-CALDESC:Events for My Beach
REFRESH-INTERVAL;VALUE=DURATION:PT1H
X-Robots-Tag:noindex
X-PUBLISHED-TTL:PT1H
BEGIN:VTIMEZONE
TZID:Asia/Shanghai
BEGIN:STANDARD
TZOFFSETFROM:+0800
TZOFFSETTO:+0800
TZNAME:CST
DTSTART:20250101T000000
END:STANDARD
END:VTIMEZONE
BEGIN:VEVENT
DTSTART;TZID=Asia/Shanghai:20250822T080000
DTEND;TZID=Asia/Shanghai:20250824T170000
DTSTAMP:20260422T194646
CREATED:20250528T021235Z
LAST-MODIFIED:20251010T081124Z
UID:27729-1755849600-1756054800@www.mybeach.com.au
SUMMARY:2025 Young Leaders Camp
DESCRIPTION:The Young Leaders Camp caters to members aged 18 to 25 and provides the opportunity to participate in a range of physical and social activities to develop personal leadership skills. \nThrough a range of physical and social activities\, attendees will explore and develop their personal leadership styles\, meet with SLSWA leaders\, and participate in advanced coasteering where they will use skills developed over the camp. \nAttendance at this camp is highly recommended for any member interested in attending the SLSA National Leadership College (NLC) or National Leaders’ Masterclass. \nDATE: 22 – 24 August\, 2025 \nLOCATION: SLSWA South West Development Centre\, Margaret River \nNOMINATIONS: Nominations are now closed. \nFull details including costs\, nomination and endorsement process\, and the online nomination link can be found via Circular 8. \nFor any enquiries\, please contact SLSWA Development Officer\, Maddison Walker.
URL:https://www.mybeach.com.au/event/2025-young-leaders-camp/
CATEGORIES:Youth Development
ATTACH;FMTTYPE=image/png:https://s3.ap-southeast-2.amazonaws.com/assets.surflifesavingwa.com.au/app/uploads/2024/06/12150155/YoungLeaders_2406__FB.png
END:VEVENT
END:VCALENDAR