BEGIN:VCALENDAR
VERSION:2.0
PRODID:-//My Beach - ECPv6.15.2//NONSGML v1.0//EN
CALSCALE:GREGORIAN
METHOD:PUBLISH
X-ORIGINAL-URL:https://www.mybeach.com.au
X-WR-CALDESC:Events for My Beach
REFRESH-INTERVAL;VALUE=DURATION:PT1H
X-Robots-Tag:noindex
X-PUBLISHED-TTL:PT1H
BEGIN:VTIMEZONE
TZID:Asia/Shanghai
BEGIN:STANDARD
TZOFFSETFROM:+0800
TZOFFSETTO:+0800
TZNAME:CST
DTSTART:20240101T000000
END:STANDARD
END:VTIMEZONE
BEGIN:VEVENT
DTSTART;TZID=Asia/Shanghai:20240323T070000
DTEND;TZID=Asia/Shanghai:20240323T103000
DTSTAMP:20260421T181446
CREATED:20240223T032641Z
LAST-MODIFIED:20240305T024212Z
UID:23817-1711177200-1711189800@www.mybeach.com.au
SUMMARY:South City Beach Sprint Classic - Act 2
DESCRIPTION:Age Categories\nU14\, U15\, U17\, U19 & Open \nEntries\n\nFree Event\nEnter on the day from 7 am (Marshalling from 7:45am)\nEvent starts 8am\n\nEvents\n\nBeach sprint 90m .X2 runs Open + U/19 \, U/17\, U/15\, U/14\, U/13 Heat/final (A\,B\,C) male and female\nBeach relay. 4x60m X1 run:  Open\, u/19\, u/17\, u/15+u/14\, U/14+u/13 (youth) male and female\nMixed Beach relay 4x60m. X1 run: Open\, u/19\, u/17\, u/15+u/14\, U/14+u/13\nBeach flags. 2 arenas: u/17\, u/19\, open. Male and female. u/15\, u/14\, u/13. male and female\n\nEvent Enquiries\nFor further information contact Brett Slocombe – email or (08) 6183 3843
URL:https://www.mybeach.com.au/event/south-city-beach-sprint-classic-act-2/
LOCATION:City Beach\, City Beach\, City Beach\, Western Australia\, 6015\, Australia
CATEGORIES:Surf Sports
ATTACH;FMTTYPE=image/jpeg:https://s3.ap-southeast-2.amazonaws.com/assets.surflifesavingwa.com.au/app/uploads/2024/02/05103906/EventCal_Ciy-Beach-Sprint.jpg
END:VEVENT
END:VCALENDAR