BEGIN:VCALENDAR
VERSION:2.0
PRODID:-//My Beach - ECPv6.15.2//NONSGML v1.0//EN
CALSCALE:GREGORIAN
METHOD:PUBLISH
X-WR-CALNAME:My Beach
X-ORIGINAL-URL:https://www.mybeach.com.au
X-WR-CALDESC:Events for My Beach
REFRESH-INTERVAL;VALUE=DURATION:PT1H
X-Robots-Tag:noindex
X-PUBLISHED-TTL:PT1H
BEGIN:VTIMEZONE
TZID:Asia/Shanghai
BEGIN:STANDARD
TZOFFSETFROM:+0800
TZOFFSETTO:+0800
TZNAME:CST
DTSTART:20240101T000000
END:STANDARD
END:VTIMEZONE
BEGIN:VEVENT
DTSTART;VALUE=DATE:20240316
DTEND;VALUE=DATE:20240318
DTSTAMP:20260421T181206
CREATED:20220920T085327Z
LAST-MODIFIED:20240315T021453Z
UID:18311-1710547200-1710719999@www.mybeach.com.au
SUMMARY:SunSmart WA Surf Life Saving Championships - Youth/Open (Surf)
DESCRIPTION:This event is proudly supported by Healthway promoting the SunSmart message. \nEntries\n\nEntries are now closed\nEntries close Thursday\, 7 March at 11:59 pm\n\nTeams\nClubs are to compile teams through SurfTec from entries made by their members. \nEvent Enquiries\nTo Surf Life Saving WA – Surf Sports \nRelated Documents\n\nOfficial Guide\nSurf Boat Draw
URL:https://www.mybeach.com.au/event/sunsmart-wa-surf-life-saving-championships-youth-open-surf/
LOCATION:Scarborough Beach\, Scarborough Beach\, Perth\, Western Australia\, 6019
CATEGORIES:Surf Sports
ATTACH;FMTTYPE=image/png:https://s3.ap-southeast-2.amazonaws.com/assets.surflifesavingwa.com.au/app/uploads/2022/09/22134257/SSWAChamps_EventCal_24_YouthSurf.png
END:VEVENT
END:VCALENDAR