BEGIN:VCALENDAR
VERSION:2.0
PRODID:-//My Beach - ECPv6.15.2//NONSGML v1.0//EN
CALSCALE:GREGORIAN
METHOD:PUBLISH
X-ORIGINAL-URL:https://www.mybeach.com.au
X-WR-CALDESC:Events for My Beach
REFRESH-INTERVAL;VALUE=DURATION:PT1H
X-Robots-Tag:noindex
X-PUBLISHED-TTL:PT1H
BEGIN:VTIMEZONE
TZID:Asia/Shanghai
BEGIN:STANDARD
TZOFFSETFROM:+0800
TZOFFSETTO:+0800
TZNAME:CST
DTSTART:20240101T000000
END:STANDARD
END:VTIMEZONE
BEGIN:VEVENT
DTSTART;VALUE=DATE:20240302
DTEND;VALUE=DATE:20240303
DTSTAMP:20260421T181423
CREATED:20220920T085132Z
LAST-MODIFIED:20240229T040726Z
UID:18306-1709337600-1709423999@www.mybeach.com.au
SUMMARY:SunSmart WA Surf Life Saving Championships - Nippers (Beach)
DESCRIPTION:This season will see a single dedicated day to showcase the beach sprints\, beach relays\, 1km run\, flags and March Past events. \nThis event is proudly supported by Healthway promoting the SunSmart message. \nAge Categories\nU10\, U11\, U12 & U13 \nEntries\n\nEntries are now closed\n\nEvent Enquiries\nTo Surf Life Saving WA – Surf Sports \nRelated documents\n\n2024 SunSmart WA Surf Life Saving Championships Official Guide\nFlags Qualifier\nSprints Qualifier
URL:https://www.mybeach.com.au/event/sunsmart-wa-surf-life-saving-championships-nippers-beach/
LOCATION:Sorrento Beach\, Sorrento Beach\, Perth\, Western Australia\, 6020\, Australia
CATEGORIES:Surf Sports
ATTACH;FMTTYPE=image/png:https://s3.ap-southeast-2.amazonaws.com/assets.surflifesavingwa.com.au/app/uploads/2022/09/22132830/SSWAChamps_EventCal_24_NippersBeach.png
END:VEVENT
BEGIN:VEVENT
DTSTART;VALUE=DATE:20240302
DTEND;VALUE=DATE:20240303
DTSTAMP:20260421T181423
CREATED:20220921T045948Z
LAST-MODIFIED:20240227T051437Z
UID:18326-1709337600-1709423999@www.mybeach.com.au
SUMMARY:SunSmart WA Surf Life Saving Championships - Youth/Open (Beach)
DESCRIPTION:This season will see a single dedicated day to showcase the beach sprints\, beach relays\, 1 and 2km runs\, flags and March Past events. \nThis event is proudly supported by Healthway promoting the SunSmart message. \nEntries\n\nEntries are now closed\n\nTeams\nClubs are to compile teams through SurfTec from entries made by their members. \nEvent Enquiries\nTo Surf Life Saving WA – Surf Sports \nRelated Documents\n2024 SunSmart WA Surf Life Saving Championships Official Guide
URL:https://www.mybeach.com.au/event/sunsmart-wa-surf-life-saving-championships-youth-open-beach/
LOCATION:Sorrento Beach\, Sorrento Beach\, Perth\, Western Australia\, 6020\, Australia
CATEGORIES:Surf Sports
ATTACH;FMTTYPE=image/png:https://s3.ap-southeast-2.amazonaws.com/assets.surflifesavingwa.com.au/app/uploads/2022/09/22132233/SSWAChamps_EventCal_24_YouthOpenBeach.png
END:VEVENT
END:VCALENDAR