BEGIN:VCALENDAR
VERSION:2.0
PRODID:-//My Beach - ECPv6.15.2//NONSGML v1.0//EN
CALSCALE:GREGORIAN
METHOD:PUBLISH
X-WR-CALNAME:My Beach
X-ORIGINAL-URL:https://www.mybeach.com.au
X-WR-CALDESC:Events for My Beach
REFRESH-INTERVAL;VALUE=DURATION:PT1H
X-Robots-Tag:noindex
X-PUBLISHED-TTL:PT1H
BEGIN:VTIMEZONE
TZID:Asia/Shanghai
BEGIN:STANDARD
TZOFFSETFROM:+0800
TZOFFSETTO:+0800
TZNAME:CST
DTSTART:20240101T000000
END:STANDARD
END:VTIMEZONE
BEGIN:VEVENT
DTSTART;VALUE=DATE:20240225
DTEND;VALUE=DATE:20240226
DTSTAMP:20260422T020550
CREATED:20220920T075206Z
LAST-MODIFIED:20240216T035629Z
UID:18266-1708819200-1708905599@www.mybeach.com.au
SUMMARY:SunSmart WA Little Nippers Championships
DESCRIPTION:The pinnacle of the surf sports season for our U8 & U9 Little Nipper athletes to showcase their competitive skills against members from all WA clubs. Little Nippers will test their skills in the Surf Race\, Board Race\, Beach Flags & Beach Sprint events in a fun and encouraging environment. \nThis event is proudly supported by Healthway promoting the SunSmart message. \nAge Categories\nU8 & U9 \nEntries\n\nEntries are now open via SurfTec\nEntries close on 19 February 2024 at 11:59pm\n\nEvent Enquiries\nTo Surf Life Saving WA –  Surf Sports \nRelated Documents\n\n2024 SunSmart WA Surf Life Saving Championships Official Guide
URL:https://www.mybeach.com.au/event/sunsmart-wa-little-nippers-championships/
LOCATION:Mullaloo Beach\, Mullaloo Beach\, Perth\, Western Australia\, 6027\, Australia
CATEGORIES:Surf Sports
ATTACH;FMTTYPE=image/png:https://s3.ap-southeast-2.amazonaws.com/assets.surflifesavingwa.com.au/app/uploads/2022/09/22131707/SSWAChamps_EventCal_24_LittleNippers.png
END:VEVENT
END:VCALENDAR