BEGIN:VCALENDAR
VERSION:2.0
PRODID:-//My Beach - ECPv6.15.2//NONSGML v1.0//EN
CALSCALE:GREGORIAN
METHOD:PUBLISH
X-WR-CALNAME:My Beach
X-ORIGINAL-URL:https://www.mybeach.com.au
X-WR-CALDESC:Events for My Beach
REFRESH-INTERVAL;VALUE=DURATION:PT1H
X-Robots-Tag:noindex
X-PUBLISHED-TTL:PT1H
BEGIN:VTIMEZONE
TZID:Asia/Shanghai
BEGIN:STANDARD
TZOFFSETFROM:+0800
TZOFFSETTO:+0800
TZNAME:CST
DTSTART:20260101T000000
END:STANDARD
END:VTIMEZONE
BEGIN:VEVENT
DTSTART;TZID=Asia/Shanghai:20260620T183000
DTEND;TZID=Asia/Shanghai:20260620T235900
DTSTAMP:20260422T054739
CREATED:20260109T012204Z
LAST-MODIFIED:20260417T024655Z
UID:28539-1781980200-1781999940@www.mybeach.com.au
SUMMARY:Awards of Excellence
DESCRIPTION:Held annually\, the Surf Life Saving WA Awards of Excellence recognise the achievements and contributions of members and clubs across a range of categories and areas of surf life saving\, including Surf Lifesaver of the Year\, Volunteer of the Year\, Open Athlete of the Year\, Woodside Nippers Program Volunteer of the Year and the highly sought-after Lavan Club of the Year title. \nA number of the award category winners go on to represent Western Australia at the annual Surf Life Saving Australia Awards of Excellence. \nThe 2026 Awards of Excellence will be held Saturday\, 20 June\, 2026. \n\nCrown Ballroom\, Crown Perth\nPre-dinner drinks from 6.30 pm. Doors open 6.45 pm for 7 pm start.\n\nEvent Enquiries \nFurther information regarding award categories and nominations can be found via Circular 37 \nTicket sales open soon. Please contact SLSWA for further details.
URL:https://www.mybeach.com.au/event/awards-of-excellence/
LOCATION:Crown Perth\, Great Eastern Highway\, Burswood\, Western Australia\, 6100\, Australia
CATEGORIES:Corporate Events
ATTACH;FMTTYPE=image/png:https://s3.ap-southeast-2.amazonaws.com/assets.surflifesavingwa.com.au/app/uploads/2025/03/12150022/AoE_Webcard_2602.png
END:VEVENT
END:VCALENDAR