BEGIN:VCALENDAR
VERSION:2.0
PRODID:-//My Beach - ECPv6.15.2//NONSGML v1.0//EN
CALSCALE:GREGORIAN
METHOD:PUBLISH
X-WR-CALNAME:My Beach
X-ORIGINAL-URL:https://www.mybeach.com.au
X-WR-CALDESC:Events for My Beach
REFRESH-INTERVAL;VALUE=DURATION:PT1H
X-Robots-Tag:noindex
X-PUBLISHED-TTL:PT1H
BEGIN:VTIMEZONE
TZID:Asia/Shanghai
BEGIN:STANDARD
TZOFFSETFROM:+0800
TZOFFSETTO:+0800
TZNAME:CST
DTSTART:20240101T000000
END:STANDARD
END:VTIMEZONE
BEGIN:VEVENT
DTSTART;VALUE=DATE:20240713
DTEND;VALUE=DATE:20240715
DTSTAMP:20260422T031818
CREATED:20240403T045509Z
LAST-MODIFIED:20240711T045629Z
UID:24081-1720828800-1721001599@www.mybeach.com.au
SUMMARY:2024 WA Pool Rescue Championships
DESCRIPTION:Pool Rescue competition is a growing sports discipline for Surf Life Saving WA and its clubs. Pool Rescue sees competitors’ aquatic skills tested with events including manikin tows\, obstacle swims and tube swims carrying ‘patients’. \nIt is very important for surf athletes to have pool rescue skills – as well as surf skills – among their credentials in order to be considered for selection in Australian elite surf sports teams. \nPool tournaments also encourage athletes who may feel uncomfortable in the ocean to get involved in the lifesaving movement. \n\nEntries\n\nEntries are now closed\n\nRelated Documents\n\nBulletin 8\nProgram (subject to change)\n\nEvent Enquiries\nTo Surf Life Saving WA – Surf Sports
URL:https://www.mybeach.com.au/event/2024-wa-pool-rescue-championships/
LOCATION:HBF Stadium\, 100 Stephenson Ave\, Mount Claremont\, Western Australia\, 6010\, Australia
CATEGORIES:Surf Sports
ATTACH;FMTTYPE=image/png:https://s3.ap-southeast-2.amazonaws.com/assets.surflifesavingwa.com.au/app/uploads/2024/04/17115401/SSWAChamps_EventCal_24_PoolRescue.png
END:VEVENT
END:VCALENDAR