BEGIN:VCALENDAR
VERSION:2.0
PRODID:-//My Beach - ECPv6.15.2//NONSGML v1.0//EN
CALSCALE:GREGORIAN
METHOD:PUBLISH
X-WR-CALNAME:My Beach
X-ORIGINAL-URL:https://www.mybeach.com.au
X-WR-CALDESC:Events for My Beach
REFRESH-INTERVAL;VALUE=DURATION:PT1H
X-Robots-Tag:noindex
X-PUBLISHED-TTL:PT1H
BEGIN:VTIMEZONE
TZID:Asia/Shanghai
BEGIN:STANDARD
TZOFFSETFROM:+0800
TZOFFSETTO:+0800
TZNAME:CST
DTSTART:20240101T000000
END:STANDARD
END:VTIMEZONE
BEGIN:VEVENT
DTSTART;VALUE=DATE:20240706
DTEND;VALUE=DATE:20240708
DTSTAMP:20260421T235907
CREATED:20231024T071125Z
LAST-MODIFIED:20240409T031419Z
UID:22723-1720224000-1720396799@www.mybeach.com.au
SUMMARY:Sunset Challenge 2024
DESCRIPTION:The Sunset Challenge is a major event on the Broome Surf Life Saving Club calendar. Over the years it has become a favoured carnival in which competitors from all over Australia come to enjoy the mix of friendly competition and a visit to paradise. \nJuly in Broome is the peak of the tourist season so intending competitors and visitors are strongly encouraged to book early for flights and accommodation. It is encouraged you contact the Broome Visitor Centre. \nOver the Sunset Challenge weekend\, all participating clubs are asked to assist with the set-up and take down of competition areas. There will be social get together and award presentations after the completion of events on Sunday afternoon. \nEntries\n\nCompetitors must be current member of a Surf Life Saving Club\nEntries now open via SurfTec\nEntries close Monday\, 1 July at 11:59 pm\n\nAge Categories\n\nNippers: U8\, U9\, U10\, U11\, U12\, U13\nYouth: U14\, U15\, U17\nOpen\nMasters\n\nEvent Enquiries\nTo Broome SLSC \nRelated Documents\n\nEvent Schedule
URL:https://www.mybeach.com.au/event/sunset-challenge-2024/
LOCATION:Cable Beach\, Cable Beach\, Broome\, Western Australia\, 6726\, Australia
CATEGORIES:Surf Sports
ATTACH;FMTTYPE=image/jpeg:https://s3.ap-southeast-2.amazonaws.com/assets.surflifesavingwa.com.au/app/uploads/2023/10/24151000/2310_EventCal_BroomeSunsetCarnival.jpg
END:VEVENT
BEGIN:VEVENT
DTSTART;TZID=Asia/Shanghai:20240707T080000
DTEND;TZID=Asia/Shanghai:20240707T103000
DTSTAMP:20260421T235907
CREATED:20240405T074543Z
LAST-MODIFIED:20240409T033934Z
UID:24123-1720339200-1720348200@www.mybeach.com.au
SUMMARY:WA Sweep School 7
DESCRIPTION:The regular sweep trainers such as Stu\, Geoff\, Steve B\, Beno etc are ready to lift your capabilities. We encourage all experienced sweeps to come along to the sessions to enjoy sharing your knowledge. \nNew sweeps of all levels are welcome. \nBYO boats\, crews and sweep oars. If you haven’t got these\, you’re still very welcome. \nStart Times\nfor 8am ‘on the water’\, so please arrange to get your boats/crews and self to the venues earlier to set up so we can maximise our learning time. \nVenues\nThe venue will be dependent on weather\, swell conditions and hosting clubs. Venue details will be posted about a week beforehand via the WA Surf Boats Facebook Group.  \nNext Events\n\nSunday 28 July TBC\nSunday 18 August TBC\nSaturday 7 September Geraldton\nSunday 6 October TBC\nSunday 20 October TBC\n\nContact \n\nEvent enquiries – Stuart Clarke\nMore information – WA Surf Boats Facebook Group
URL:https://www.mybeach.com.au/event/wa-sweep-school-7/
LOCATION:Western Australia
ATTACH;FMTTYPE=image/jpeg:https://s3.ap-southeast-2.amazonaws.com/assets.surflifesavingwa.com.au/app/uploads/2024/04/05105022/EventCal_Sweep-School.jpg
END:VEVENT
END:VCALENDAR