BEGIN:VCALENDAR
VERSION:2.0
PRODID:-//My Beach - ECPv6.15.2//NONSGML v1.0//EN
CALSCALE:GREGORIAN
METHOD:PUBLISH
X-WR-CALNAME:My Beach
X-ORIGINAL-URL:https://www.mybeach.com.au
X-WR-CALDESC:Events for My Beach
REFRESH-INTERVAL;VALUE=DURATION:PT1H
X-Robots-Tag:noindex
X-PUBLISHED-TTL:PT1H
BEGIN:VTIMEZONE
TZID:Asia/Shanghai
BEGIN:STANDARD
TZOFFSETFROM:+0800
TZOFFSETTO:+0800
TZNAME:CST
DTSTART:20240101T000000
END:STANDARD
END:VTIMEZONE
BEGIN:VEVENT
DTSTART;TZID=Asia/Shanghai:20240703T080000
DTEND;TZID=Asia/Shanghai:20240703T170000
DTSTAMP:20260421T192521
CREATED:20240626T015617Z
LAST-MODIFIED:20240626T043401Z
UID:24828-1719993600-1720026000@www.mybeach.com.au
SUMMARY:Free Member First Aid Course
DESCRIPTION:As a member of Surf Life Saving WA\, you have access to a range of benefits including FREE first aid training.\nThe only requirement to access this training is that you are a current financial member of a Western Australian Surf Life Saving Club! \nCourse Details\n\nHLTAID011- Provide First Aid (full course)\nDuration – 1 day\n8 am – 5 pm\nSurf Life Saving WA\, 7 Delawney St\, Balcatta\nFree for SLSWA members\nFind out more and enroll here\n\nRTO 51104
URL:https://www.mybeach.com.au/event/free-member-first-aid-course-hltaid011-provide-first-aid/
LOCATION:SLSWA Balcatta\, 7 Delawney Street\, Perth\, Western Australia\, 6021\, Australia
CATEGORIES:Education
ATTACH;FMTTYPE=image/jpeg:https://s3.ap-southeast-2.amazonaws.com/assets.surflifesavingwa.com.au/app/uploads/2024/06/26123000/FirstAid_memberFREE_event_24012.jpg
END:VEVENT
END:VCALENDAR