BEGIN:VCALENDAR
VERSION:2.0
PRODID:-//My Beach - ECPv6.15.2//NONSGML v1.0//EN
CALSCALE:GREGORIAN
METHOD:PUBLISH
X-WR-CALNAME:My Beach
X-ORIGINAL-URL:https://www.mybeach.com.au
X-WR-CALDESC:Events for My Beach
REFRESH-INTERVAL;VALUE=DURATION:PT1H
X-Robots-Tag:noindex
X-PUBLISHED-TTL:PT1H
BEGIN:VTIMEZONE
TZID:Asia/Shanghai
BEGIN:STANDARD
TZOFFSETFROM:+0800
TZOFFSETTO:+0800
TZNAME:CST
DTSTART:20240101T000000
END:STANDARD
END:VTIMEZONE
BEGIN:VEVENT
DTSTART;VALUE=DATE:20240217
DTEND;VALUE=DATE:20240219
DTSTAMP:20260423T212108
CREATED:20220920T074830Z
LAST-MODIFIED:20240215T024543Z
UID:18261-1708128000-1708300799@www.mybeach.com.au
SUMMARY:SunSmart Nippers Qualifier
DESCRIPTION:The Nipper Qualifier is an opportunity for Woodside Nippers to test their skills against other Clubs for a chance to compete in the SunSmart WA Surf Life Saving Championships. These events are targeted at U10-U13 age groups and include beach sprints\, flags\, board race and iron event. \nThis event is proudly supported by Healthway promoting the SunSmart message. \nAge Categories\nU10\, U11\, U12 & U13 \nEntries\n\nEntries are now open via SurfTec\nEntries and team composition close on 12 February 2024 at 11:59pm\n\nTeams\nClubs are to compile teams through SurfTec from entries made by their members. \nQualifying Events\n\nIron-person\nBoard Race\nBoard Rescue\nBeach Sprint\nBeach Flags\n\nEvent Enquiries\nTo Surf Life Saving WA – Surf Sports \nRelated Documents\n\nEvent Map\nProgram and water safety roster *updated 15/02/24\nCircular 12 Regional Championship and Qualifying for the 2023/24 Nipper Championships
URL:https://www.mybeach.com.au/event/sunsmart-nippers-qualifier/
LOCATION:Mullaloo Beach\, Mullaloo Beach\, Perth\, Western Australia\, 6027\, Australia
CATEGORIES:Surf Sports
ATTACH;FMTTYPE=image/png:https://www.mybeach.com.au/app/uploads/2022/09/2210_Nippers_qualifier.png
END:VEVENT
END:VCALENDAR