BEGIN:VCALENDAR
VERSION:2.0
PRODID:-//My Beach - ECPv6.15.2//NONSGML v1.0//EN
CALSCALE:GREGORIAN
METHOD:PUBLISH
X-WR-CALNAME:My Beach
X-ORIGINAL-URL:https://www.mybeach.com.au
X-WR-CALDESC:Events for My Beach
REFRESH-INTERVAL;VALUE=DURATION:PT1H
X-Robots-Tag:noindex
X-PUBLISHED-TTL:PT1H
BEGIN:VTIMEZONE
TZID:Asia/Shanghai
BEGIN:STANDARD
TZOFFSETFROM:+0800
TZOFFSETTO:+0800
TZNAME:CST
DTSTART:20240101T000000
END:STANDARD
END:VTIMEZONE
BEGIN:VEVENT
DTSTART;VALUE=DATE:20240210
DTEND;VALUE=DATE:20240212
DTSTAMP:20260423T211522
CREATED:20221020T042023Z
LAST-MODIFIED:20240116T030836Z
UID:18507-1707523200-1707695999@www.mybeach.com.au
SUMMARY:SunSmart Regional Championships (Peel)
DESCRIPTION:The SunSmart Regional Championships are a qualifying avenue for U10 – U13’s to the SunSmart WA Surf Life Saving Championships. \nThis event is proudly supported by Healthway promoting the SunSmart message. \nAge Categories\nU8\, U9\, U10\, U11\, U12 & U13 \nClubs\nEntry in this event is open to Secret Harbour\, Mandurah and Port Bouvard Surf Life Saving Club \nEvents\nSaturday 10 February \n\nMarshaling at 2.45pm\nFlags and sprints commence at 3pm\nSundowner & BBQ after event\n\nSunday 11 February  \n\nMarshaling 7:45am\nWater events commence 8am\n\nEntries\nEntries now open here \nQualifying Events\n\nIron-person\nBoard Race\nBoard Rescue\nBeach Sprint\nBeach Flags\n\nQualifying\nThe following event placements will result in qualification in that event for the 2024 SunSmart WA Surf Life Saving Championships; \n\nIron-person & Board Race: 1st & 2nd places\nBoard Rescue/Beach Sprint/Beach Flag: 1st place\nNo qualifying restrictions apply for 1km Beach Run and Surf Race.\n\nAthletes who do not qualify through their Regional Championships may still enter the SunSmart Nipper Qualifier event on 17-18 February in Perth in an attempt to gain qualification via this event.   \nEvent Enquiries\nSunita Gaby \nRelated Documents\n\nCircular 12 Regional Championship and Qualifying for the 2023/24 Nipper Championships\nFlyer
URL:https://www.mybeach.com.au/event/sunsmart-regional-championships-peel/
LOCATION:Western Australia
CATEGORIES:Surf Sports
ATTACH;FMTTYPE=image/jpeg:https://s3.ap-southeast-2.amazonaws.com/assets.surflifesavingwa.com.au/app/uploads/2022/09/19103239/2312_EventCal_SunsmartRegionalChamps.jpg
END:VEVENT
BEGIN:VEVENT
DTSTART;VALUE=DATE:20240211
DTEND;VALUE=DATE:20240212
DTSTAMP:20260423T211522
CREATED:20230822T051301Z
LAST-MODIFIED:20240206T072455Z
UID:21938-1707609600-1707695999@www.mybeach.com.au
SUMMARY:SunSmart Youth/Open Carnival 4
DESCRIPTION:The SunSmart Youth/Open Carnival comprises water and beach events. \nThis event is proudly supported by Healthway promoting the SunSmart message. \nEntries\n\nEntries are now open via SurfTec\nEntries close 7 February 2024 at 11:00pm\n\nTeams\nClubs are to compile teams through SurfTec from entries made by their members. \nEvent Enquiries\nTo Trigg Island SLSC – Andrew Mosel \nRelated Documents\nProgram
URL:https://www.mybeach.com.au/event/sunsmart-youth-open-carnival-4/
LOCATION:Trigg Beach\, Trigg Beach\, Perth\, Western Australia\, 6029\, Australia
CATEGORIES:Surf Sports
ATTACH;FMTTYPE=image/png:https://www.mybeach.com.au/app/uploads/2022/09/2210_YouthOpenCarnival..png
END:VEVENT
END:VCALENDAR