BEGIN:VCALENDAR
VERSION:2.0
PRODID:-//My Beach - ECPv6.15.2//NONSGML v1.0//EN
CALSCALE:GREGORIAN
METHOD:PUBLISH
X-WR-CALNAME:My Beach
X-ORIGINAL-URL:https://www.mybeach.com.au
X-WR-CALDESC:Events for My Beach
REFRESH-INTERVAL;VALUE=DURATION:PT1H
X-Robots-Tag:noindex
X-PUBLISHED-TTL:PT1H
BEGIN:VTIMEZONE
TZID:Asia/Shanghai
BEGIN:STANDARD
TZOFFSETFROM:+0800
TZOFFSETTO:+0800
TZNAME:CST
DTSTART:20240101T000000
END:STANDARD
END:VTIMEZONE
BEGIN:VEVENT
DTSTART;VALUE=DATE:20240126
DTEND;VALUE=DATE:20240129
DTSTAMP:20260423T225211
CREATED:20220920T074501Z
LAST-MODIFIED:20240110T033449Z
UID:18257-1706227200-1706486399@www.mybeach.com.au
SUMMARY:SunSmart WA Country Carnival
DESCRIPTION:The annual SunSmart Country Carnival is for ages U8 and up and includes all beach (sprints\, flags\, relays\, and 1-2km runs) and water (board\, swim\, ski\, iron\, cameron/board/ski/taplin relays) events\, and surf boats. \nThis event is proudly supported by Healthway promoting the SunSmart message. \nEntries\nEntries are now open via SurfTec. \nTeams\nClubs are to compile teams through SurfTec from entries made by their members. \nEvent Enquiries\nTo Geraldton SLSC – Caroline Rowcroft \nRelated Documents\nEvent Flyer \nProgram \nEvent Updates
URL:https://www.mybeach.com.au/event/sunsmart-wa-country-carnival/
LOCATION:Mahomets Beach\, Mahomets Beach\, Geraldton\, Western Australia\, 6530\, Australia
CATEGORIES:Surf Sports
ATTACH;FMTTYPE=image/png:https://s3.ap-southeast-2.amazonaws.com/assets.surflifesavingwa.com.au/app/uploads/2022/09/10113441/2212_EventCal_CountryCarnival-1.png
END:VEVENT
BEGIN:VEVENT
DTSTART;TZID=Asia/Shanghai:20240126T070000
DTEND;TZID=Asia/Shanghai:20240126T100000
DTSTAMP:20260423T225211
CREATED:20231219T013910Z
LAST-MODIFIED:20240924T062725Z
UID:23326-1706252400-1706263200@www.mybeach.com.au
SUMMARY:Champion Bay Challenge
DESCRIPTION:An annual event held on Australia Day hosted by Champion Bay SLSC. \nEntries\nDetails to come \nEvents\n\n1\, 3 & 6km Events\nJunior 500m\n\nEvent Enquiries\nChampion Bay SLSC \n  \n 
URL:https://www.mybeach.com.au/event/champion-bay-challenge/
LOCATION:Champion Bay\, Champion Bay\, Champion Bay\, Western Australia\, 6530\, Australia
CATEGORIES:Surf Sports
ATTACH;FMTTYPE=image/jpeg:https://s3.ap-southeast-2.amazonaws.com/assets.surflifesavingwa.com.au/app/uploads/2023/12/19101326/2312_EventCal_ChampionBayChallenge.jpg
END:VEVENT
END:VCALENDAR