BEGIN:VCALENDAR
VERSION:2.0
PRODID:-//My Beach - ECPv6.15.2//NONSGML v1.0//EN
CALSCALE:GREGORIAN
METHOD:PUBLISH
X-WR-CALNAME:My Beach
X-ORIGINAL-URL:https://www.mybeach.com.au
X-WR-CALDESC:Events for My Beach
REFRESH-INTERVAL;VALUE=DURATION:PT1H
X-Robots-Tag:noindex
X-PUBLISHED-TTL:PT1H
BEGIN:VTIMEZONE
TZID:Asia/Shanghai
BEGIN:STANDARD
TZOFFSETFROM:+0800
TZOFFSETTO:+0800
TZNAME:CST
DTSTART:20240101T000000
END:STANDARD
END:VTIMEZONE
BEGIN:VEVENT
DTSTART;VALUE=DATE:20240121
DTEND;VALUE=DATE:20240122
DTSTAMP:20260423T224122
CREATED:20220920T075554Z
LAST-MODIFIED:20231219T024214Z
UID:18270-1705795200-1705881599@www.mybeach.com.au
SUMMARY:SunSmart Regional Championships (South West)
DESCRIPTION:The SunSmart Regional Championships are a qualifying avenue for U10 – U13’s to the SunSmart WA Surf Life Saving Championships. \nThis event is proudly supported by Healthway promoting the SunSmart message. \nAge Categories\nU8\, U9\, U10\, U11\, U12 & U13 \nClubs\nEntry in this event is open to Binningup\, Busselton\, City of Bunbury\, Dalyellup\, Margaret River and Smiths Beach Surf Life Saving Clubs. \nQualifying Events\n\nIron-person\nBoard Race\nBoard Rescue\nBeach Sprint\nBeach Flags\n\nQualifying \nThe following event placements will result in qualification in that event for the 2024 SunSmart WA Surf Life Saving Championships; \n\nIron-person & Board Race: 1st & 2nd places\nBoard Rescue/Beach Sprint/Beach Flag: 1st place\nNo qualifying restrictions apply for 1km Beach Run and Surf Race.\n\nAthletes who do not qualify through their Regional Championships may still enter the SunSmart Nipper Qualifier event on 17-18 February in Perth in an attempt to gain qualification via this event.   \nEvent Enquiries\nTo City of Bunbury SLSC – Denise Duncan \nRelated Documents\n\nCircular 12 Regional Championship and Qualifying for the 2023/24 Nipper Championships 
URL:https://www.mybeach.com.au/event/sunsmnart-regional-championships-south-west/
LOCATION:Back Beach\, Back Beach\, Bunbury\, Western Australia\, 6230\, Australia
CATEGORIES:Surf Sports
ATTACH;FMTTYPE=image/jpeg:https://s3.ap-southeast-2.amazonaws.com/assets.surflifesavingwa.com.au/app/uploads/2022/09/19103239/2312_EventCal_SunsmartRegionalChamps.jpg
END:VEVENT
END:VCALENDAR