BEGIN:VCALENDAR
VERSION:2.0
PRODID:-//My Beach - ECPv6.15.2//NONSGML v1.0//EN
CALSCALE:GREGORIAN
METHOD:PUBLISH
X-ORIGINAL-URL:https://www.mybeach.com.au
X-WR-CALDESC:Events for My Beach
REFRESH-INTERVAL;VALUE=DURATION:PT1H
X-Robots-Tag:noindex
X-PUBLISHED-TTL:PT1H
BEGIN:VTIMEZONE
TZID:Asia/Shanghai
BEGIN:STANDARD
TZOFFSETFROM:+0800
TZOFFSETTO:+0800
TZNAME:CST
DTSTART:20240101T000000
END:STANDARD
END:VTIMEZONE
BEGIN:VEVENT
DTSTART;VALUE=DATE:20240119
DTEND;VALUE=DATE:20240120
DTSTAMP:20260423T225340
CREATED:20220920T074602Z
LAST-MODIFIED:20240117T070258Z
UID:18259-1705622400-1705708799@www.mybeach.com.au
SUMMARY:Twilight Beach Carnival
DESCRIPTION:Entries\nEntries are now open via SurfTec \nTeams\nClubs are to compile teams through SurfTec from entries made by their members. \nEvent Enquiries\n\nTo Sorrento SLSC – Jess Hampton\n\nRelated Documents\nFlyer \nProgram
URL:https://www.mybeach.com.au/event/twilight-beach-carnival/
LOCATION:Sorrento Beach\, Sorrento Beach\, Perth\, Western Australia\, 6020\, Australia
CATEGORIES:Surf Sports
ATTACH;FMTTYPE=image/png:https://s3.ap-southeast-2.amazonaws.com/assets.surflifesavingwa.com.au/app/uploads/2022/09/07130534/2312_EventCal_Beach.png
END:VEVENT
END:VCALENDAR