BEGIN:VCALENDAR
VERSION:2.0
PRODID:-//My Beach - ECPv6.15.2//NONSGML v1.0//EN
CALSCALE:GREGORIAN
METHOD:PUBLISH
X-ORIGINAL-URL:https://www.mybeach.com.au
X-WR-CALDESC:Events for My Beach
REFRESH-INTERVAL;VALUE=DURATION:PT1H
X-Robots-Tag:noindex
X-PUBLISHED-TTL:PT1H
BEGIN:VTIMEZONE
TZID:Asia/Shanghai
BEGIN:STANDARD
TZOFFSETFROM:+0800
TZOFFSETTO:+0800
TZNAME:CST
DTSTART:20240101T000000
END:STANDARD
END:VTIMEZONE
BEGIN:VEVENT
DTSTART;TZID=Asia/Shanghai:20240113T063000
DTEND;TZID=Asia/Shanghai:20240113T090000
DTSTAMP:20260423T224538
CREATED:20231207T045727Z
LAST-MODIFIED:20231222T042911Z
UID:23237-1705127400-1705136400@www.mybeach.com.au
SUMMARY:1 & 2km Run Series: R2
DESCRIPTION:The Summer Run Series aims to encourage clubbies of all ages to train and simulate competing in 1 & 2km run events in readiness for the SunSmart WA Surf Life Saving Championships and The Aussies. \nDates & Times\n\nRace 2: Saturday\, 13 January 2024 – Fremantle SLSC. Registrations from 6:30am / Races start 7:30am sharp\nRace 3: Friday\, 9 February 2024 – Scarboro SLSC. Registrations from 5pm / Races start 6pm sharp\n\nEntries\n\nRegister on the day\n$5 per event per runner – breakfast (am)\n\nFormat\n1km: U6 to U12 and U60+ \n2km: U13 to U59 \nRules\n\nThe run events will be conducted to the current SLSA Surf Sport Manual\nRunners must be current members of a Surf Life Saving Club\nClub competition cap preferred (represent your club with pride)\n\nEvent Enquiries\nJack Dowie / M: 0413 333 650
URL:https://www.mybeach.com.au/event/1-2km-run-series-r2/
LOCATION:Fremantle Surf Life Saving Club\, Vlamingh Parklands\, 20 Leighton Beach Blvd\, North Fremantle\, WA\, 6159\, Australia
ATTACH;FMTTYPE=image/png:https://s3.ap-southeast-2.amazonaws.com/assets.surflifesavingwa.com.au/app/uploads/2023/12/07151322/RunSeries_EventCal_1024x576_2510.png
END:VEVENT
END:VCALENDAR