BEGIN:VCALENDAR
VERSION:2.0
PRODID:-//My Beach - ECPv6.15.2//NONSGML v1.0//EN
CALSCALE:GREGORIAN
METHOD:PUBLISH
X-ORIGINAL-URL:https://www.mybeach.com.au
X-WR-CALDESC:Events for My Beach
REFRESH-INTERVAL;VALUE=DURATION:PT1H
X-Robots-Tag:noindex
X-PUBLISHED-TTL:PT1H
BEGIN:VTIMEZONE
TZID:Asia/Shanghai
BEGIN:STANDARD
TZOFFSETFROM:+0800
TZOFFSETTO:+0800
TZNAME:CST
DTSTART:20230101T000000
END:STANDARD
END:VTIMEZONE
BEGIN:VEVENT
DTSTART;TZID=Asia/Shanghai:20231208T170000
DTEND;TZID=Asia/Shanghai:20231210T120000
DTSTAMP:20260424T001702
CREATED:20231102T022733Z
LAST-MODIFIED:20231123T074028Z
UID:22777-1702054800-1702209600@www.mybeach.com.au
SUMMARY:R&R Weekender
DESCRIPTION:Held across three days\, the R&R Weekender will combine coaching and competition opportunities for coaches\, officials and athletes in the sport of R&R. \nWith special guest R&R Experts:\nGordon McKirdy from NSW (referee Youth R&R at Scarborough Aussies 2023\, Coach Wanda R&R).\nChristine Cardwell from VIC (National Coach of the Year 2022\, R&R wizard). \nProgram\nFriday / 5pm Leighton Beach \n\nSecond Sundowner Series session find out more here\n\nSaturday / 9am – 12pm Scarboro Training Room  \n\nMorning activities will focus on the coaches and officials\, with demonstrations covering all aspects of 2 and 5-person events (Nippers & Youth).\n\nSaturday / 3:30pm – 5:30/6pm Hillarys Boat Harbour Swim Beach \n\nTraining R&R Carnival for U15\, 17\, 19 and Open – Targetting Competitors\, coaches and Officials. Potentially Sprint Belt Races\n\nSunday / 9am – 10am Scarboro SLSC \n\nClub access to expert Coaches/Officials\n\nEntries\n\nEnter on the day\nEntry is free\n\nEvent Enquiries\nScarboro SLSC – Doug McGhie \n 
URL:https://www.mybeach.com.au/event/rr-weekender-2/
LOCATION:Scarboro Surf Life Saving Club\, 163 The Esplanade\, Scarborough\, Western Australia\, 6019\, Australia
CATEGORIES:Surf Sports
ATTACH;FMTTYPE=image/png:https://www.mybeach.com.au/app/uploads/2022/09/2210_rrweekender1.png
END:VEVENT
END:VCALENDAR